BEGIN:VCALENDAR
VERSION:2.0
PRODID:-//OCWS - ECPv6.15.17//NONSGML v1.0//EN
CALSCALE:GREGORIAN
METHOD:PUBLISH
X-WR-CALNAME:OCWS
X-ORIGINAL-URL:https://ocws.org
X-WR-CALDESC:Events for OCWS
REFRESH-INTERVAL;VALUE=DURATION:PT1H
X-Robots-Tag:noindex
X-PUBLISHED-TTL:PT1H
BEGIN:VTIMEZONE
TZID:America/Los_Angeles
BEGIN:DAYLIGHT
TZOFFSETFROM:-0800
TZOFFSETTO:-0700
TZNAME:PDT
DTSTART:20230312T100000
END:DAYLIGHT
BEGIN:STANDARD
TZOFFSETFROM:-0700
TZOFFSETTO:-0800
TZNAME:PST
DTSTART:20231105T090000
END:STANDARD
BEGIN:DAYLIGHT
TZOFFSETFROM:-0800
TZOFFSETTO:-0700
TZNAME:PDT
DTSTART:20240310T100000
END:DAYLIGHT
BEGIN:STANDARD
TZOFFSETFROM:-0700
TZOFFSETTO:-0800
TZNAME:PST
DTSTART:20241103T090000
END:STANDARD
BEGIN:DAYLIGHT
TZOFFSETFROM:-0800
TZOFFSETTO:-0700
TZNAME:PDT
DTSTART:20250309T100000
END:DAYLIGHT
BEGIN:STANDARD
TZOFFSETFROM:-0700
TZOFFSETTO:-0800
TZNAME:PST
DTSTART:20251102T090000
END:STANDARD
END:VTIMEZONE
BEGIN:VEVENT
DTSTART;TZID=America/Los_Angeles:20240302T110000
DTEND;TZID=America/Los_Angeles:20240302T133000
DTSTAMP:20260425T181333
CREATED:20231226T191557Z
LAST-MODIFIED:20231226T191557Z
UID:10000358-1709377200-1709386200@ocws.org
SUMMARY:Mini Outing
DESCRIPTION:DeFalco Family Foods & Wines provides a slice of Italia that customers can savor. In the back of the store\, there is a communal tasting room where people can try wines made by owner and OCWS home winemaker\nGus DeFalco. Our next OCWS Outing will take place on two Saturdays \nFeb. 17 and March 2 – from 11 a.m. to 1:30 p.m. (signup for only one date.  Duplicates will be deleted and may not meet your preferred schedule.) There are only 16 slots available for each session so space is very limited. Cost is $25 and\nincludes a tasting of up to a dozen wines. Light snacks also will be provided. If both dates sell out\, we will try to schedule another\ntime in the spring to accommodate more people.
URL:https://ocws.org/events/mini-outing-2/
LOCATION:DeFalco Family Foods & Wine\, 10625 Ellis Ave Unit B\,\, Fountain Valley\,\, CA\, 92708
CATEGORIES:Outing
ATTACH;FMTTYPE=image/jpeg:https://ocws.org/wp-content/uploads/2023/12/Falco.jpg
ORGANIZER;CN="Greg & Cathy Risling":MAILTO:Editor@ocws.org
END:VEVENT
BEGIN:VEVENT
DTSTART;TZID=America/Los_Angeles:20240217T110000
DTEND;TZID=America/Los_Angeles:20240217T133000
DTSTAMP:20260425T181333
CREATED:20231226T190946Z
LAST-MODIFIED:20240118T192516Z
UID:10000357-1708167600-1708176600@ocws.org
SUMMARY:Mini Outing
DESCRIPTION:DeFalco Family Foods & Wines provides a slice of Italia that customers can savor. In the back of the store\, there is a communal tasting room where people can try wines made by owner and OCWS home winemaker\nGus DeFalco. Our next OCWS Outing will take place on two Saturdays \nFeb. 17 and March 2 – from 11 a.m. to 1:30 p.m. (signup for only one date.  Duplicates will be deleted and may not meet your preferred schedule.) There are only 16 slots available for each session so space is very limited. Cost is $25 and\nincludes a tasting of up to a dozen wines. Light snacks also will be provided. If both dates sell out\, we will try to schedule another\ntime in the spring to accommodate more people.
URL:https://ocws.org/events/mini-outing/
LOCATION:DeFalco Family Foods & Wine\, 10625 Ellis Ave Unit B\,\, Fountain Valley\,\, CA\, 92708
CATEGORIES:Outing,Wine Tasting
ATTACH;FMTTYPE=image/jpeg:https://ocws.org/wp-content/uploads/2023/12/Falco.jpg
ORGANIZER;CN="Greg & Cathy Risling":MAILTO:Editor@ocws.org
END:VEVENT
END:VCALENDAR