BEGIN:VCALENDAR
VERSION:2.0
PRODID:-//OCWS - ECPv6.15.17//NONSGML v1.0//EN
CALSCALE:GREGORIAN
METHOD:PUBLISH
X-ORIGINAL-URL:https://ocws.org
X-WR-CALDESC:Events for OCWS
REFRESH-INTERVAL;VALUE=DURATION:PT1H
X-Robots-Tag:noindex
X-PUBLISHED-TTL:PT1H
BEGIN:VTIMEZONE
TZID:America/Los_Angeles
BEGIN:DAYLIGHT
TZOFFSETFROM:-0800
TZOFFSETTO:-0700
TZNAME:PDT
DTSTART:20220313T100000
END:DAYLIGHT
BEGIN:STANDARD
TZOFFSETFROM:-0700
TZOFFSETTO:-0800
TZNAME:PST
DTSTART:20221106T090000
END:STANDARD
BEGIN:DAYLIGHT
TZOFFSETFROM:-0800
TZOFFSETTO:-0700
TZNAME:PDT
DTSTART:20230312T100000
END:DAYLIGHT
BEGIN:STANDARD
TZOFFSETFROM:-0700
TZOFFSETTO:-0800
TZNAME:PST
DTSTART:20231105T090000
END:STANDARD
BEGIN:DAYLIGHT
TZOFFSETFROM:-0800
TZOFFSETTO:-0700
TZNAME:PDT
DTSTART:20240310T100000
END:DAYLIGHT
BEGIN:STANDARD
TZOFFSETFROM:-0700
TZOFFSETTO:-0800
TZNAME:PST
DTSTART:20241103T090000
END:STANDARD
END:VTIMEZONE
BEGIN:VEVENT
DTSTART;TZID=America/Los_Angeles:20231102T180000
DTEND;TZID=America/Los_Angeles:20231102T200000
DTSTAMP:20260425T200537
CREATED:20230829T215652Z
LAST-MODIFIED:20230829T215652Z
UID:10000341-1698948000-1698955200@ocws.org
SUMMARY:Outing - Bellante Tasting
DESCRIPTION:Did you know there are more than a dozen wineries right here in Orange County? Some have been around for more than a decade while others are new to the game. It is the goal of the Orange County Wine Society to continue to schedule events at various locations. \nOCWS members are invited to a special tasting and dinner of gourmet tacos at Bellante Family Winery on Thursday\, Nov. 2\, from 6 to 8 p.m. Cost is $55 per person and includes a tasting of six premier wines along with your choice of two delicious taco plates. Guests can choose between chicken or fish and the plates will include cilantro lime or Spanish rice and black or refried pinto beans. The package includes all condiments (cilantro\, onions\, limes\, cabbage\, roasted jalapenos\, guacamole\, cotija and Monterey cheese)\, a salsa bar and corn or flour tortillas. Attendees can get 10 percent off bottle purchases. \nThere are only 75 slots available. We will need a minimum of 45 guests to attend for the event to occur. Signup deadline is November 1.
URL:https://ocws.org/events/outing-bellante-tasting/
LOCATION:Bellante Family Winery\, 23854 Via Fabricante Unit D-2\, Mission Viejo\, United States
CATEGORIES:Outing,Wine Tasting Trip
ATTACH;FMTTYPE=image/jpeg:https://ocws.org/wp-content/uploads/2023/08/FeatureBottles.jpg
ORGANIZER;CN="Greg & Cathy Risling":MAILTO:Editor@ocws.org
END:VEVENT
END:VCALENDAR